BEGIN:VCALENDAR
VERSION:2.0
PRODID:-//chrom-plameny - ECPv5.14.0.3//NONSGML v1.0//EN
CALSCALE:GREGORIAN
METHOD:PUBLISH
X-WR-CALNAME:chrom-plameny
X-ORIGINAL-URL:https://www.chrom-plameny.cz
X-WR-CALDESC:Akce na chrom-plameny
BEGIN:VTIMEZONE
TZID:Europe/Prague
BEGIN:DAYLIGHT
TZOFFSETFROM:+0100
TZOFFSETTO:+0200
TZNAME:CEST
DTSTART:20260329T010000
END:DAYLIGHT
BEGIN:STANDARD
TZOFFSETFROM:+0200
TZOFFSETTO:+0100
TZNAME:CET
DTSTART:20261025T010000
END:STANDARD
END:VTIMEZONE
BEGIN:VEVENT
DTSTART;TZID=Europe/Prague:20260412T100000
DTEND;TZID=Europe/Prague:20260412T160000
DTSTAMP:20260419T140307
CREATED:20240323T072704Z
LAST-MODIFIED:20251214T113316Z
UID:28026-1775988000-1776009600@www.chrom-plameny.cz
SUMMARY:ZAHÁJENÍ SEZÓNY S MUSCLE BANDOU
DESCRIPTION:
URL:https://www.chrom-plameny.cz/event/zahajeni-sezony-2025-s-muscle-bandou/
LOCATION:Občerstvení Letadlo u Bakova nad Jizerou\, Česká republika
CATEGORIES:Akce v ČR
END:VEVENT
END:VCALENDAR