BEGIN:VCALENDAR
VERSION:2.0
PRODID:-//chrom-plameny - ECPv5.14.0.3//NONSGML v1.0//EN
CALSCALE:GREGORIAN
METHOD:PUBLISH
X-WR-CALNAME:chrom-plameny
X-ORIGINAL-URL:https://www.chrom-plameny.cz
X-WR-CALDESC:Akce na chrom-plameny
BEGIN:VTIMEZONE
TZID:Europe/Prague
BEGIN:DAYLIGHT
TZOFFSETFROM:+0100
TZOFFSETTO:+0200
TZNAME:CEST
DTSTART:20260329T010000
END:DAYLIGHT
BEGIN:STANDARD
TZOFFSETFROM:+0200
TZOFFSETTO:+0100
TZNAME:CET
DTSTART:20261025T010000
END:STANDARD
END:VTIMEZONE
BEGIN:VEVENT
DTSTART;VALUE=DATE:20260531
DTEND;VALUE=DATE:20260601
DTSTAMP:20260419T144301
CREATED:20260214T095436Z
LAST-MODIFIED:20260214T100641Z
UID:30256-1780185600-1780271999@www.chrom-plameny.cz
SUMMARY:6. US CAR MEETING
DESCRIPTION:Team V8 Vorarlberg\, pro vozy do r.v. 1980
URL:https://www.chrom-plameny.cz/event/6-us-car-meeting/
LOCATION:Oberes Ried 1\, 6833 Klaus\, Vorarlberg (A)\, Rakousko
CATEGORIES:Akce v zahraničí
END:VEVENT
END:VCALENDAR